View In:
ArcGIS JavaScript
ArcGIS Online Map Viewer
ArcGIS Earth
Service Description: 2001PhotoAerial
Name: 2001PhotoAerial
Description:
Single Fused Map Cache: false
Extent:
XMin: 1677183.0
YMin: 1666502.0
XMax: 1752095.0
YMax: 1735563.0
Spatial Reference: 102713
(2258)
LatestVCSWkid(0)
Initial Extent:
XMin: 1677183.0
YMin: 1666502.0
XMax: 1752095.0
YMax: 1735563.0
Spatial Reference: 102713
(2258)
LatestVCSWkid(0)
Full Extent:
XMin: 1677183.0
YMin: 1666502.0
XMax: 1752095.0
YMax: 1735563.0
Spatial Reference: 102713
(2258)
LatestVCSWkid(0)
Pixel Size X: 1.0
Pixel Size Y: 1.0
Band Count: 3
Pixel Type: U8
RasterFunction Infos: {"rasterFunctionInfos": [{
"name": "None",
"description": "",
"help": ""
}]}
Mensuration Capabilities: Basic
Inspection Capabilities:
Has Histograms: true
Has Colormap: false
Has Multi Dimensions : false
Rendering Rule:
Min Scale: 0
Max Scale: 0
Copyright Text:
Service Data Type: esriImageServiceDataTypeRGB
Min Values: 0, 0, 0
Max Values: 182, 178, 156
Mean Values: 86.21975308642, 86.357621567145, 68.434618291761
Standard Deviation Values: 64.835165789426, 64.934921763922, 51.701077179966
Object ID Field:
Fields:
None
Default Mosaic Method: Center
Allowed Mosaic Methods:
SortField:
SortValue: null
Mosaic Operator: First
Default Compression Quality: 75
Default Resampling Method: Bilinear
Max Record Count: null
Max Image Height: 4100
Max Image Width: 15000
Max Download Image Count: null
Max Mosaic Image Count: null
Allow Raster Function: true
Allow Copy: true
Allow Analysis: true
Allow Compute TiePoints: false
Supports Statistics: false
Supports Advanced Queries: false
Use StandardizedQueries: true
Raster Type Infos:
Name: Raster Dataset
Description: Supports all ArcGIS Raster Datasets
Help:
Has Raster Attribute Table: false
Edit Fields Info: null
Ownership Based AccessControl For Rasters: null
Child Resources:
Info
Histograms
Statistics
Key Properties
Legend
Raster Function Infos
Supported Operations:
Export Image
Identify
Measure
Compute Histograms
Compute Statistics Histograms
Get Samples
Compute Class Statistics
Query Boundary
Compute Pixel Location
Compute Angles
Validate
Project