{
 "currentVersion": 11.5,
 "serviceDescription": "2001PhotoAerial",
 "serviceItemId": "26022e7b079d440c94e375477bf80820",
 "name": "2001PhotoAerial",
 "description": "",
 "extent": {
  "xmin": 1677183,
  "ymin": 1666502,
  "xmax": 1752095,
  "ymax": 1735563,
  "spatialReference": {
   "wkid": 102713,
   "latestWkid": 2258
  }
 },
 "initialExtent": {
  "xmin": 1677183,
  "ymin": 1666502,
  "xmax": 1752095,
  "ymax": 1735563,
  "spatialReference": {
   "wkid": 102713,
   "latestWkid": 2258
  }
 },
 "fullExtent": {
  "xmin": 1677183,
  "ymin": 1666502,
  "xmax": 1752095,
  "ymax": 1735563,
  "spatialReference": {
   "wkid": 102713,
   "latestWkid": 2258
  }
 },
 "sortableFields": "",
 "bandCount": 3,
 "pixelType": "U8",
 "minValues": [
  0,
  0,
  0
 ],
 "maxValues": [
  182,
  178,
  156
 ],
 "meanValues": [
  86.21975308642,
  86.357621567145,
  68.434618291761
 ],
 "stdvValues": [
  64.835165789426,
  64.934921763922,
  51.701077179966
 ],
 "serviceProperties": "Center<\/MosaicMethod>First<\/MosaicOperator>true<\/SortAscending><\/LockImageID><\/TileOrderField>0<\/TileOrderBase>0.000000<\/AvgImageSpacingX>0.000000<\/AvgImageSpacingY>0.0<\/ViewPointX>0.0<\/ViewPointY>0.0<\/ViewPointDefShiftX>0.0<\/ViewPointDefShiftY>None<\/CompressionMethod>75<\/CompressionQuality>0.010000<\/CompressionTolerance>Bilinear<\/SamplingMethod><\/ImageServiceProperties><\/ImageServer>",
 "allowedFields": "",
 "hasMultidimensions": false,
 "pixelSizeX": 1,
 "pixelSizeY": 1,
 "meanPixelSize": 0.30480060960121924,
 "datasetFormat": "MrSID",
 "uncompressedSize": 15520492896,
 "blockWidth": 1024,
 "blockHeight": 128,
 "compressionType": "Wavelet (MG2)",
 "bandNames": [
  "Band_1",
  "Band_2",
  "Band_3"
 ],
 "allowCopy": true,
 "allowAnalysis": true,
 "itemAccess": false,
 "inspectionCapabilities": "",
 "minPixelSize": 0,
 "maxPixelSize": 0,
 "copyrightText": "",
 "serviceDataType": "esriImageServiceDataTypeRGB",
 "serviceSourceType": "esriImageServiceSourceTypeDataset",
 "objectIdField": "",
 "fields": [],
 "capabilities": "Image,Metadata,Mensuration",
 "defaultMosaicMethod": "Center",
 "allowedMosaicMethods": "",
 "sortField": "",
 "sortValue": null,
 "sortAscending": true,
 "mosaicOperator": "First",
 "defaultCompressionQuality": 75,
 "defaultResamplingMethod": "Bilinear",
 "maxImageHeight": 4100,
 "maxImageWidth": 15000,
 "allowRasterFunction": true,
 "rasterFunctionInfos": [
  {
   "name": "None",
   "description": "",
   "help": ""
  }
 ],
 "rasterTypeInfos": [
  {
   "name": "Raster Dataset",
   "description": "Supports all ArcGIS Raster Datasets",
   "help": ""
  }
 ],
 "mensurationCapabilities": "Basic",
 "hasHistograms": true,
 "hasColormap": false,
 "hasRasterAttributeTable": false,
 "minScale": 0,
 "maxScale": 0,
 "exportTilesAllowed": false,
 "supportsStatistics": false,
 "supportsAdvancedQueries": false,
 "editFieldsInfo": null,
 "ownershipBasedAccessControlForRasters": null,
 "allowComputeTiePoints": false,
 "useStandardizedQueries": true,
 "advancedQueryCapabilities": {
  "useStandardizedQueries": true,
  "supportsStatistics": false,
  "supportsOrderBy": false,
  "supportsDistinct": false,
  "supportsPagination": false
 },
 "spatialReference": {
  "wkid": 102713,
  "latestWkid": 2258
 }
}
