View In:
ArcGIS JavaScript
ArcGIS Online Map Viewer
ArcGIS Earth
Service Description: 1935PhotoAerial
Name: 1935PhotoAerial
Description:
Single Fused Map Cache: false
Extent:
XMin: 1638308.8944659235
YMin: 1635590.1429786307
XMax: 1789369.0448012317
YMax: 1914000.6295981216
Spatial Reference: 102713
(2258)
LatestVCSWkid(0)
Initial Extent:
XMin: 1638308.8944659235
YMin: 1635590.1429786307
XMax: 1789369.0448012317
YMax: 1914000.6295981216
Spatial Reference: 102713
(2258)
LatestVCSWkid(0)
Full Extent:
XMin: 1638308.8944659235
YMin: 1635590.1429786307
XMax: 1789369.0448012317
YMax: 1914000.6295981216
Spatial Reference: 102713
(2258)
LatestVCSWkid(0)
Pixel Size X: 10.149845483794138
Pixel Size Y: 10.1840107769219
Band Count: 1
Pixel Type: U8
RasterFunction Infos: {"rasterFunctionInfos": [{
"name": "None",
"description": "",
"help": ""
}]}
Mensuration Capabilities: Basic
Inspection Capabilities:
Has Histograms: true
Has Colormap: false
Has Multi Dimensions : false
Rendering Rule:
Min Scale: 0
Max Scale: 0
Copyright Text:
Service Data Type: esriImageServiceDataTypeGeneric
Min Values: 0
Max Values: 255
Mean Values: 115.74489383414
Standard Deviation Values: 37.170027150151
Object ID Field:
Fields:
None
Default Mosaic Method: Center
Allowed Mosaic Methods:
SortField:
SortValue: null
Mosaic Operator: First
Default Compression Quality: 75
Default Resampling Method: Bilinear
Max Record Count: null
Max Image Height: 4100
Max Image Width: 15000
Max Download Image Count: null
Max Mosaic Image Count: null
Allow Raster Function: true
Allow Copy: true
Allow Analysis: true
Allow Compute TiePoints: false
Supports Statistics: false
Supports Advanced Queries: false
Use StandardizedQueries: true
Raster Type Infos:
Name: Raster Dataset
Description: Supports all ArcGIS Raster Datasets
Help:
Has Raster Attribute Table: true
Edit Fields Info: null
Ownership Based AccessControl For Rasters: null
Child Resources:
Info
Raster Attribute Table
Histograms
Statistics
Key Properties
Legend
Raster Function Infos
Supported Operations:
Export Image
Identify
Measure
Compute Histograms
Compute Statistics Histograms
Get Samples
Compute Class Statistics
Query Boundary
Compute Pixel Location
Compute Angles
Validate
Project