{
 "currentVersion": 11.5,
 "serviceDescription": "1935PhotoAerial",
 "serviceItemId": "e66b3d7744ac4fe89ebb1a3ffa9576d6",
 "name": "1935PhotoAerial",
 "description": "",
 "extent": {
  "xmin": 1638308.8944659235,
  "ymin": 1635590.1429786307,
  "xmax": 1789369.0448012317,
  "ymax": 1914000.6295981216,
  "spatialReference": {
   "wkid": 102713,
   "latestWkid": 2258
  }
 },
 "initialExtent": {
  "xmin": 1638308.8944659235,
  "ymin": 1635590.1429786307,
  "xmax": 1789369.0448012317,
  "ymax": 1914000.6295981216,
  "spatialReference": {
   "wkid": 102713,
   "latestWkid": 2258
  }
 },
 "fullExtent": {
  "xmin": 1638308.8944659235,
  "ymin": 1635590.1429786307,
  "xmax": 1789369.0448012317,
  "ymax": 1914000.6295981216,
  "spatialReference": {
   "wkid": 102713,
   "latestWkid": 2258
  }
 },
 "sortableFields": "",
 "bandCount": 1,
 "pixelType": "U8",
 "minValues": [
  0
 ],
 "maxValues": [
  255
 ],
 "meanValues": [
  115.74489383414
 ],
 "stdvValues": [
  37.170027150151
 ],
 "serviceProperties": "Center<\/MosaicMethod>First<\/MosaicOperator>true<\/SortAscending><\/LockImageID><\/TileOrderField>0<\/TileOrderBase>0.000000<\/AvgImageSpacingX>0.000000<\/AvgImageSpacingY>0.0<\/ViewPointX>0.0<\/ViewPointY>0.0<\/ViewPointDefShiftX>0.0<\/ViewPointDefShiftY>None<\/CompressionMethod>75<\/CompressionQuality>0.010000<\/CompressionTolerance>Bilinear<\/SamplingMethod><\/ImageServiceProperties><\/ImageServer>",
 "allowedFields": "",
 "hasMultidimensions": false,
 "pixelSizeX": 10.149845483794138,
 "pixelSizeY": 10.1840107769219,
 "meanPixelSize": 3.0988858919049087,
 "datasetFormat": "IMAGINE Image",
 "uncompressedSize": 406871454,
 "blockWidth": 64,
 "blockHeight": 64,
 "compressionType": "None",
 "bandNames": [
  "Layer_1"
 ],
 "allowCopy": true,
 "allowAnalysis": true,
 "itemAccess": false,
 "inspectionCapabilities": "",
 "minPixelSize": 0,
 "maxPixelSize": 0,
 "copyrightText": "",
 "serviceDataType": "esriImageServiceDataTypeGeneric",
 "serviceSourceType": "esriImageServiceSourceTypeDataset",
 "objectIdField": "",
 "fields": [],
 "capabilities": "Image,Metadata,Mensuration",
 "defaultMosaicMethod": "Center",
 "allowedMosaicMethods": "",
 "sortField": "",
 "sortValue": null,
 "sortAscending": true,
 "mosaicOperator": "First",
 "defaultCompressionQuality": 75,
 "defaultResamplingMethod": "Bilinear",
 "maxImageHeight": 4100,
 "maxImageWidth": 15000,
 "allowRasterFunction": true,
 "rasterFunctionInfos": [
  {
   "name": "None",
   "description": "",
   "help": ""
  }
 ],
 "rasterTypeInfos": [
  {
   "name": "Raster Dataset",
   "description": "Supports all ArcGIS Raster Datasets",
   "help": ""
  }
 ],
 "mensurationCapabilities": "Basic",
 "hasHistograms": true,
 "hasColormap": false,
 "hasRasterAttributeTable": true,
 "minScale": 0,
 "maxScale": 0,
 "exportTilesAllowed": false,
 "supportsStatistics": false,
 "supportsAdvancedQueries": false,
 "editFieldsInfo": null,
 "ownershipBasedAccessControlForRasters": null,
 "allowComputeTiePoints": false,
 "useStandardizedQueries": true,
 "advancedQueryCapabilities": {
  "useStandardizedQueries": true,
  "supportsStatistics": false,
  "supportsOrderBy": false,
  "supportsDistinct": false,
  "supportsPagination": false
 },
 "spatialReference": {
  "wkid": 102713,
  "latestWkid": 2258
 }
}
