View In:
ArcGIS JavaScript
ArcGIS Online Map Viewer
ArcGIS Earth
Service Description: This data set contains imagery from the National Agriculture Imagery Program
(NAIP). The NAIP acquires digital ortho imagery during the agricultural growing
seasons in the continental U.S. A primary goal of the NAIP program is to enable
availability of ortho imagery within one year of acquisition. The NAIP provides 60
centimeter ground sample distance (GSD) ortho imagery rectified to a horizontal
accuracy within +/- 4 meters of reference digital ortho quarter quads (DOQQ's) from
the National Digital Ortho Program (NDOP) or from the National Agriculture Imagery
Program (NAIP). The tiling format of NAIP imagery is based on a 3.75' x 3.75'
quarter quadrangle with a 300 pixel buffer on all four sides. The NAIP imagery is
formatted to the UTM coordinate system using the North American Datum of 1983
(NAD83). The NAIP imagery may contain as much as 10% cloud cover per tile. This file
was generated by compressing NAIP imagery that cover the county extent. Two types of
compression may be used for NAIP imagery: MrSID and JPEG 2000. The target value for
the compression ratio is 40:1 for imagery.
Name: 2018PhotoAerial
Description: This data set contains imagery from the National Agriculture Imagery Program
(NAIP). The NAIP acquires digital ortho imagery during the agricultural growing
seasons in the continental U.S. A primary goal of the NAIP program is to enable
availability of ortho imagery within one year of acquisition. The NAIP provides 60
centimeter ground sample distance (GSD) ortho imagery rectified to a horizontal
accuracy within +/- 4 meters of reference digital ortho quarter quads (DOQQ's) from
the National Digital Ortho Program (NDOP) or from the National Agriculture Imagery
Program (NAIP). The tiling format of NAIP imagery is based on a 3.75' x 3.75'
quarter quadrangle with a 300 pixel buffer on all four sides. The NAIP imagery is
formatted to the UTM coordinate system using the North American Datum of 1983
(NAD83). The NAIP imagery may contain as much as 10% cloud cover per tile. This file
was generated by compressing NAIP imagery that cover the county extent. Two types of
compression may be used for NAIP imagery: MrSID and JPEG 2000. The target value for
the compression ratio is 40:1 for imagery.
Single Fused Map Cache: false
Extent:
XMin: 385782.0
YMin: 3873107.9999802485
XMax: 438240.0
YMax: 3991620.0000000005
Spatial Reference: 26913
(26913)
LatestVCSWkid(0)
Initial Extent:
XMin: 385782.0
YMin: 3873107.9999802485
XMax: 438240.0
YMax: 3991620.0000000005
Spatial Reference: 26913
(26913)
LatestVCSWkid(0)
Full Extent:
XMin: 385782.0
YMin: 3873107.9999802485
XMax: 438240.0
YMax: 3991620.0000000005
Spatial Reference: 26913
(26913)
LatestVCSWkid(0)
Pixel Size X: 0.6
Pixel Size Y: 0.6000000000999998
Band Count: 3
Pixel Type: U8
RasterFunction Infos: {"rasterFunctionInfos": [{
"name": "None",
"description": "",
"help": ""
}]}
Mensuration Capabilities: Basic
Inspection Capabilities:
Has Histograms: true
Has Colormap: false
Has Multi Dimensions : false
Rendering Rule:
Min Scale: 0
Max Scale: 0
Copyright Text:
Service Data Type: esriImageServiceDataTypeRGB
Min Values: 0, 0, 0
Max Values: 197, 178, 150
Mean Values: 115.42268041237, 101.06473267801, 81.443298969072
Standard Deviation Values: 47.076705604841, 38.661532595795, 30.494082655646
Object ID Field:
Fields:
None
Default Mosaic Method: Center
Allowed Mosaic Methods:
SortField:
SortValue: null
Mosaic Operator: First
Default Compression Quality: 75
Default Resampling Method: Bilinear
Max Record Count: null
Max Image Height: 4100
Max Image Width: 15000
Max Download Image Count: null
Max Mosaic Image Count: null
Allow Raster Function: true
Allow Copy: true
Allow Analysis: true
Allow Compute TiePoints: false
Supports Statistics: false
Supports Advanced Queries: false
Use StandardizedQueries: true
Raster Type Infos:
Name: Raster Dataset
Description: Supports all ArcGIS Raster Datasets
Help:
Has Raster Attribute Table: false
Edit Fields Info: null
Ownership Based AccessControl For Rasters: null
Child Resources:
Info
Histograms
Statistics
Key Properties
Legend
Raster Function Infos
Supported Operations:
Export Image
Identify
Measure
Compute Histograms
Compute Statistics Histograms
Get Samples
Compute Class Statistics
Query Boundary
Compute Pixel Location
Compute Angles
Validate
Project