View In:
ArcGIS JavaScript
ArcGIS Online Map Viewer
ArcGIS Earth
Service Description: 2011PhotoAerial
Name: 2011PhotoAerial
Description:
Single Fused Map Cache: false
Extent:
XMin: 1676847.9363841354
YMin: 1630562.7990428347
XMax: 1775425.9197486532
YMax: 1729140.7824073525
Spatial Reference: 0
(0)
LatestVCSWkid(0)
Initial Extent:
XMin: 1676847.9363841354
YMin: 1630562.7990428347
XMax: 1775425.9197486532
YMax: 1729140.7824073525
Spatial Reference: 0
(0)
LatestVCSWkid(0)
Full Extent:
XMin: 1676847.9363841354
YMin: 1630562.7990428347
XMax: 1775425.9197486532
YMax: 1729140.7824073525
Spatial Reference: 0
(0)
LatestVCSWkid(0)
Pixel Size X: 0.985779833645178
Pixel Size Y: 0.985779833645178
Band Count: 3
Pixel Type: U8
RasterFunction Infos: {"rasterFunctionInfos": [{
"name": "None",
"description": "",
"help": ""
}]}
Mensuration Capabilities: Basic
Inspection Capabilities:
Has Histograms: true
Has Colormap: false
Has Multi Dimensions : false
Rendering Rule:
Min Scale: 0
Max Scale: 0
Copyright Text:
Service Data Type: esriImageServiceDataTypeRGB
Min Values: 0, 0, 0
Max Values: 188, 186, 184
Mean Values: 66.938671386922, 66.724073302791, 59.127238650562
Standard Deviation Values: 63.035521541382, 62.580026894892, 56.045095592197
Object ID Field:
Fields:
None
Default Mosaic Method: Center
Allowed Mosaic Methods:
SortField:
SortValue: null
Mosaic Operator: First
Default Compression Quality: 75
Default Resampling Method: Bilinear
Max Record Count: null
Max Image Height: 4100
Max Image Width: 15000
Max Download Image Count: null
Max Mosaic Image Count: null
Allow Raster Function: true
Allow Copy: true
Allow Analysis: true
Allow Compute TiePoints: false
Supports Statistics: false
Supports Advanced Queries: false
Use StandardizedQueries: true
Raster Type Infos:
Name: Raster Dataset
Description: Supports all ArcGIS Raster Datasets
Help:
Has Raster Attribute Table: false
Edit Fields Info: null
Ownership Based AccessControl For Rasters: null
Child Resources:
Info
Histograms
Statistics
Key Properties
Legend
Raster Function Infos
Supported Operations:
Export Image
Identify
Measure
Compute Histograms
Compute Statistics Histograms
Get Samples
Compute Class Statistics
Query Boundary
Compute Pixel Location
Compute Angles
Validate
Project