View In:
ArcGIS JavaScript
ArcGIS Online Map Viewer
ArcGIS Earth
Service Description: 2009PhotoAerial
Name: 2009PhotoAerial
Description:
Single Fused Map Cache: false
Extent:
XMin: 385632.0
YMin: 3872957.0
XMax: 438387.0
YMax: 3991767.0
Spatial Reference: 26913
(26913)
LatestVCSWkid(0)
Initial Extent:
XMin: 385632.0
YMin: 3872957.0
XMax: 438387.0
YMax: 3991767.0
Spatial Reference: 26913
(26913)
LatestVCSWkid(0)
Full Extent:
XMin: 385632.0
YMin: 3872957.0
XMax: 438387.0
YMax: 3991767.0
Spatial Reference: 26913
(26913)
LatestVCSWkid(0)
Pixel Size X: 1.0
Pixel Size Y: 1.0
Band Count: 3
Pixel Type: U8
RasterFunction Infos: {"rasterFunctionInfos": [{
"name": "None",
"description": "",
"help": ""
}]}
Mensuration Capabilities: Basic
Inspection Capabilities:
Has Histograms: true
Has Colormap: false
Has Multi Dimensions : false
Rendering Rule:
Min Scale: 0
Max Scale: 0
Copyright Text:
Service Data Type: esriImageServiceDataTypeRGB
Min Values: 0, 0, 0
Max Values: 203, 187, 162
Mean Values: 117.10355029586, 112.677843524, 99.2258382643
Standard Deviation Values: 41.65122546884, 36.457861108933, 30.312143633332
Object ID Field:
Fields:
None
Default Mosaic Method: Center
Allowed Mosaic Methods:
SortField:
SortValue: null
Mosaic Operator: First
Default Compression Quality: 75
Default Resampling Method: Bilinear
Max Record Count: null
Max Image Height: 4100
Max Image Width: 15000
Max Download Image Count: null
Max Mosaic Image Count: null
Allow Raster Function: true
Allow Copy: true
Allow Analysis: true
Allow Compute TiePoints: false
Supports Statistics: false
Supports Advanced Queries: false
Use StandardizedQueries: true
Raster Type Infos:
Name: Raster Dataset
Description: Supports all ArcGIS Raster Datasets
Help:
Has Raster Attribute Table: false
Edit Fields Info: null
Ownership Based AccessControl For Rasters: null
Child Resources:
Info
Histograms
Statistics
Key Properties
Legend
Raster Function Infos
Supported Operations:
Export Image
Identify
Measure
Compute Histograms
Compute Statistics Histograms
Get Samples
Compute Class Statistics
Query Boundary
Compute Pixel Location
Compute Angles
Validate
Project