View In:
ArcGIS JavaScript
ArcGIS Online Map Viewer
ArcGIS Earth
Service Description: 1951PhotoAerial
Name: 1951PhotoAerial
Description:
Single Fused Map Cache: false
Extent:
XMin: 1677424.0149066143
YMin: 1678153.0523245954
XMax: 1761440.0793193926
YMax: 1723740.2358878963
Spatial Reference: 102713
(2258)
LatestVCSWkid(0)
Initial Extent:
XMin: 1677424.0149066143
YMin: 1678153.0523245954
XMax: 1761440.0793193926
YMax: 1723740.2358878963
Spatial Reference: 102713
(2258)
LatestVCSWkid(0)
Full Extent:
XMin: 1677424.0149066143
YMin: 1678153.0523245954
XMax: 1761440.0793193926
YMax: 1723740.2358878963
Spatial Reference: 102713
(2258)
LatestVCSWkid(0)
Pixel Size X: 5.008707786620857
Pixel Size Y: 5.006829606073682
Band Count: 1
Pixel Type: U8
RasterFunction Infos: {"rasterFunctionInfos": [{
"name": "None",
"description": "",
"help": ""
}]}
Mensuration Capabilities: Basic
Inspection Capabilities:
Has Histograms: true
Has Colormap: false
Has Multi Dimensions : false
Rendering Rule:
Min Scale: 0
Max Scale: 0
Copyright Text:
Service Data Type: esriImageServiceDataTypeGeneric
Min Values: 0
Max Values: 253
Mean Values: 170.41451632704
Standard Deviation Values: 61.227342793443
Object ID Field:
Fields:
None
Default Mosaic Method: Center
Allowed Mosaic Methods:
SortField:
SortValue: null
Mosaic Operator: First
Default Compression Quality: 75
Default Resampling Method: Bilinear
Max Record Count: null
Max Image Height: 4100
Max Image Width: 15000
Max Download Image Count: null
Max Mosaic Image Count: null
Allow Raster Function: true
Allow Copy: true
Allow Analysis: true
Allow Compute TiePoints: false
Supports Statistics: false
Supports Advanced Queries: false
Use StandardizedQueries: true
Raster Type Infos:
Name: Raster Dataset
Description: Supports all ArcGIS Raster Datasets
Help:
Has Raster Attribute Table: true
Edit Fields Info: null
Ownership Based AccessControl For Rasters: null
Child Resources:
Info
Raster Attribute Table
Histograms
Statistics
Key Properties
Legend
Raster Function Infos
Supported Operations:
Export Image
Identify
Measure
Compute Histograms
Compute Statistics Histograms
Get Samples
Compute Class Statistics
Query Boundary
Compute Pixel Location
Compute Angles
Validate
Project